BEGIN:VCALENDAR
VERSION:2.0
PRODID:-//Prema Equilibrio Natural - ECPv6.15.17.1//NONSGML v1.0//EN
CALSCALE:GREGORIAN
METHOD:PUBLISH
X-WR-CALNAME:Prema Equilibrio Natural
X-ORIGINAL-URL:https://premaequilibrionatural.com
X-WR-CALDESC:Eventos para Prema Equilibrio Natural
REFRESH-INTERVAL;VALUE=DURATION:PT1H
X-Robots-Tag:noindex
X-PUBLISHED-TTL:PT1H
BEGIN:VTIMEZONE
TZID:Europe/Madrid
BEGIN:DAYLIGHT
TZOFFSETFROM:+0100
TZOFFSETTO:+0200
TZNAME:CEST
DTSTART:20240331T010000
END:DAYLIGHT
BEGIN:STANDARD
TZOFFSETFROM:+0200
TZOFFSETTO:+0100
TZNAME:CET
DTSTART:20241027T010000
END:STANDARD
BEGIN:DAYLIGHT
TZOFFSETFROM:+0100
TZOFFSETTO:+0200
TZNAME:CEST
DTSTART:20250330T010000
END:DAYLIGHT
BEGIN:STANDARD
TZOFFSETFROM:+0200
TZOFFSETTO:+0100
TZNAME:CET
DTSTART:20251026T010000
END:STANDARD
BEGIN:DAYLIGHT
TZOFFSETFROM:+0100
TZOFFSETTO:+0200
TZNAME:CEST
DTSTART:20260329T010000
END:DAYLIGHT
BEGIN:STANDARD
TZOFFSETFROM:+0200
TZOFFSETTO:+0100
TZNAME:CET
DTSTART:20261025T010000
END:STANDARD
END:VTIMEZONE
BEGIN:VEVENT
DTSTART;TZID=Europe/Madrid:20250222T103000
DTEND;TZID=Europe/Madrid:20250222T200000
DTSTAMP:20260424T193233
CREATED:20250110T185439Z
LAST-MODIFIED:20250116T181057Z
UID:37721-1740220200-1740254400@premaequilibrionatural.com
SUMMARY:Curso Reiki nivel 1
DESCRIPTION:Presencial en Valencia \nCurso Reiki Usui nivel I\nEl próximo sábado 22 de Febrero de 2025 celebraremos curso de Nivel I de Reiki Tradicional Japonés. El curso será impartido en Bikram Yoga Valencia. \nEn este curso conocerás con detalle qué es el Reiki\, su historia\, linajes\, los principios y su filosofía\, recibirás Reiju (Iniciación en Reiki)\, aprenderás y practicaremos técnicas de meditación\, de respiración y de equilibrado de chakras. \nAprenderás a darte autotratamiento de Reiki y tratamiento a los demás. Al finalizar el curso dispondrás de las enseñanzas y la práctica necesarias para practicar Reiki y meditación en tu día a día. \nAl acabar el curso se entregará Diploma de formación en Nivel I de Reiki tradicional Japonés. Este curso está avalado por el Instituto Internacional de Reiki. \n																														 \n¿Qué incluye el curso?\nEn el curso Reiki Usui nivel I aprenderás a utilizar esta técnica y podrás hacer sesiones a ti mismo y a los demás. \nTemario del curso\n1. Introducción al Reiki: \n\nDescubrirás qué es el Reiki\, su historia y los linajes que lo han transmitido a lo largo del tiempo.\nExplorarás los principios fundamentales y la filosofía que sustentan esta práctica\, comprendiendo su enfoque holístico y su aplicación en la vida diaria.\n\n\n2. Reiju (Iniciación en Reiki): \n\nRecibirás la iniciación en Reiki\, también conocida como Reiju\, un ritual que abre tus canales energéticos y te conecta con la energía universal.\n\n\n3. Técnicas de meditación y respiración: \n\nAprenderás y practicarás diversas técnicas de meditación y respiración diseñadas para calmar la mente\, equilibrar las emociones y fortalecer tu conexión con la energía vital.\n\n\n4. Equilibrado de chakras: \n\nDescubrirás cómo equilibrar y armonizar tus chakras\, los centros energéticos del cuerpo\, para promover el bienestar físico\, emocional y espiritual.\n\n\n5. Autotratamiento y tratamiento a otros: \nAdquirirás habilidades para darte autotratamiento de Reiki\, una práctica esencial para tu autocuidado y crecimiento personal. \nAprenderás a aplicar Reiki a los demás\, ofreciendo sanación y equilibrio a tus seres queridos y a cualquier persona que lo necesite. \n¿Por qué deberías apuntarte al curso?\nNo estás leyendo esto por casualidad\, sino porque eres una persona buscadora\, que está decidid@ a realizar cambios y mejoras en su vida\, buscando equilibrar su salud y mejorarla\, tomar las riendas de su vida y buscar las herramientas que te ayuden en tu proceso de aprendizaje y crecimiento. \nEste curso te capacitará para poder trabajar en tu día a día a equilibrar tu energía\, con técnicas de respiración\, meditación\, equilibrado de chakras y aprendiendo a darte Reiki a ti y a los demás. \nAdemás ayudamos a tomar consciencia\, llevando luz a bloqueos y mirando desde otra óptica lo que cada uno estamos viviendo\, compartiendo experiencias en grupo para ayudarnos a liberar esos bloqueos\, aprendiendo a ver nuestros procesos personales con más amor y luz. \n¿Necesitas más información?\nContáctanos ahora y recibe toda la información que necesitas sin compromiso. Estamos aquí para ayudarte a dar el primer paso hacia una vida más equilibrada. \n					Reserva tu plaza ahora mismo\n															\n																														 \nImpartido por:\n\n\nGuillermo Cantero.Maestro de Reiki Tradicional Japonés y Terapeuta de Reiki (5º linaje) por el Instituto Internacional de Reiki (Javier Robas)\, avalado por la Federación Española de Reiki (miembro asociado nº 8128). \n\n\nMarga Jiménez.Maestra de Reiki Tradicional Japonés y Terapeuta de Reiki (5º linaje) por el Instituto Internacional de Reiki (Javier Robas)\, avalada por la Federación Española de Reiki (miembro asociado nº 8131). \n\n\nCurso Reiki nivel 1\n22 de Febrero de 2025 de 10:30 a 14:30h y de 16 a 20h\n130€ \nBikram Yoga Valencia\nC/ de Ciril Amorós\, 29\, L’Eixample\, 46004 València\nReserva tu plaza ahora				 \n¡Ahora es el momento de avanzar!\nDescubre el poder del Reiki Nivel 1: una herramienta transformadora de autoconocimiento\, crecimiento personal y equilibrio energético. \n ¡No pierdas esta oportunidad única! Las plazas son limitadas\, ¡reserva la tuya hoy mismo! \n			Promoción \nCurso Reiki niveles I y II\n22 de Febrero y 12 de Abril de 2025 de 10:30 a 14:30h y de 16 a 20h\n265€ \nSe puede fraccionar el pago en3 meses (Enero\, Febrero y Marzo)\nBikram Yoga Valencia\nC/ de Ciril Amorós\, 29\, L’Eixample\, 46004 València\nReserva tu plaza ahora				 \n¡Aprovecha nuestra oferta especial!\nDescubre el poder del Reiki con los cursos de nivel I y nivel II.\nEl precio original de ambos cursos es de 300 €\, pero si te apuntas ahora\, ¡te llevas todo por solo 265 €! \nLas plazas son limitadas\, ¡reserva ahora y da un gran paso en tu crecimiento personal!
URL:https://premaequilibrionatural.com/evento/reiki-nivel-1/
CATEGORIES:Cursos
ATTACH;FMTTYPE=image/jpeg:https://premaequilibrionatural.com/wp-content/uploads/2025/01/1737025673726.jpg
END:VEVENT
END:VCALENDAR