BEGIN:VCALENDAR
VERSION:2.0
PRODID:-//Prema Equilibrio Natural - ECPv6.15.17.1//NONSGML v1.0//EN
CALSCALE:GREGORIAN
METHOD:PUBLISH
X-ORIGINAL-URL:https://premaequilibrionatural.com
X-WR-CALDESC:Eventos para Prema Equilibrio Natural
REFRESH-INTERVAL;VALUE=DURATION:PT1H
X-Robots-Tag:noindex
X-PUBLISHED-TTL:PT1H
BEGIN:VTIMEZONE
TZID:Europe/Madrid
BEGIN:DAYLIGHT
TZOFFSETFROM:+0100
TZOFFSETTO:+0200
TZNAME:CEST
DTSTART:20240331T010000
END:DAYLIGHT
BEGIN:STANDARD
TZOFFSETFROM:+0200
TZOFFSETTO:+0100
TZNAME:CET
DTSTART:20241027T010000
END:STANDARD
BEGIN:DAYLIGHT
TZOFFSETFROM:+0100
TZOFFSETTO:+0200
TZNAME:CEST
DTSTART:20250330T010000
END:DAYLIGHT
BEGIN:STANDARD
TZOFFSETFROM:+0200
TZOFFSETTO:+0100
TZNAME:CET
DTSTART:20251026T010000
END:STANDARD
BEGIN:DAYLIGHT
TZOFFSETFROM:+0100
TZOFFSETTO:+0200
TZNAME:CEST
DTSTART:20260329T010000
END:DAYLIGHT
BEGIN:STANDARD
TZOFFSETFROM:+0200
TZOFFSETTO:+0100
TZNAME:CET
DTSTART:20261025T010000
END:STANDARD
END:VTIMEZONE
BEGIN:VEVENT
DTSTART;TZID=Europe/Madrid:20250628T103000
DTEND;TZID=Europe/Madrid:20250628T200000
DTSTAMP:20260424T135441
CREATED:20250530T194840Z
LAST-MODIFIED:20250601T090215Z
UID:37793-1751106600-1751140800@premaequilibrionatural.com
SUMMARY:Curso Reiki nivel 1
DESCRIPTION:Presencial en TarragonaCurso Reiki Usui nivel IEl próximo sábado 28 de Junio de 2025 celebraremos curso de Nivel I de Reiki Tradicional Japonés. El curso será impartido en Centro Agâra Tarragona. \n		En este curso conocerás con detalle qué es el Reiki\, su historia\, linajes\, los principios y su filosofía\, recibirás Reiju (Iniciación en Reiki)\, aprenderás y practicaremos técnicas de meditación\, de respiración y de equilibrado de chakras.Aprenderás a darte autotratamiento de Reiki y tratamiento a los demás. Al finalizar el curso dispondrás de las enseñanzas y la práctica necesarias para practicar Reiki y meditación en tu día a día.Al acabar el curso se entregará Diploma de formación en Nivel I de Reiki tradicional Japonés. Este curso está avalado por el Instituto Internacional de Reiki. 		\n																														\n					¿Qué incluye el curso?				\n		En el curso Reiki Usui nivel I aprenderás a utilizar esta técnica y podrás hacer sesiones a ti mismo y a los demás. Temario del curso1. Introducción al Reiki: Descubrirás qué es el Reiki\, su historia y los linajes que lo han transmitido a lo largo del tiempo.Explorarás los principios fundamentales y la filosofía que sustentan esta práctica\, comprendiendo su enfoque holístico y su aplicación en la vida diaria.2. Reiju (Iniciación en Reiki): Recibirás la iniciación en Reiki\, también conocida como Reiju\, un ritual que abre tus canales energéticos y te conecta con la energía universal.3. Técnicas de meditación y respiración: Aprenderás y practicarás diversas técnicas de meditación y respiración diseñadas para calmar la mente\, equilibrar las emociones y fortalecer tu conexión con la energía vital.4. Equilibrado de chakras: Descubrirás cómo equilibrar y armonizar tus chakras\, los centros energéticos del cuerpo\, para promover el bienestar físico\, emocional y espiritual.5. Autotratamiento y tratamiento a otros: Adquirirás habilidades para darte autotratamiento de Reiki\, una práctica esencial para tu autocuidado y crecimiento personal. Aprenderás a aplicar Reiki a los demás\, ofreciendo sanación y equilibrio a tus seres queridos y a cualquier persona que lo necesite. ¿Por qué deberías apuntarte al curso?No estás leyendo esto por casualidad\, sino porque eres una persona buscadora\, que está decidid@ a realizar cambios y mejoras en su vida\, buscando equilibrar su salud y mejorarla\, tomar las riendas de su vida y buscar las herramientas que te ayuden en tu proceso de aprendizaje y crecimiento. Este curso te capacitará para poder trabajar en tu día a día a equilibrar tu energía\, con técnicas de respiración\, meditación\, equilibrado de chakras y aprendiendo a darte Reiki a ti y a los demás. Además ayudamos a tomar consciencia\, llevando luz a bloqueos y mirando desde otra óptica lo que cada uno estamos viviendo\, compartiendo experiencias en grupo para ayudarnos a liberar esos bloqueos\, aprendiendo a ver nuestros procesos personales con más amor y luz. ¿Necesitas más información?Contáctanos ahora y recibe toda la información que necesitas sin compromiso. Estamos aquí para ayudarte a dar el primer paso hacia una vida más equilibrada. 		\n					Reserva tu plaza ahora mismo				\n																														\n																														\n					Impartido por:				\n		\n\nGuillermo Cantero.Maestro de Reiki Tradicional Japonés y Terapeuta de Reiki (5º linaje) por el Instituto Internacional de Reiki (Javier Robas)\, avalado por la Federación Española de Reiki (miembro asociado nº 8128). \n\n\nMarga Jiménez.Maestra de Reiki Tradicional Japonés y Terapeuta de Reiki (5º linaje) por el Instituto Internacional de Reiki (Javier Robas)\, avalada por la Federación Española de Reiki (miembro asociado nº 8131). \n\n		\n			Curso Reiki nivel 128 de Junio de 2025 de 10:30 a 14:30h y de 16 a 20h130€\nAgâra Tarrragona\nCarrer Martí d’Ardenya\, 4\, 43001 Tarragona \n  Reserva tu plaza ahora				\n					¡Ahora es el momento de avanzar!Descubre el poder del Reiki Nivel 1: una herramienta transformadora de autoconocimiento\, crecimiento personal y equilibrio energético. \n ¡No pierdas esta oportunidad única! Las plazas son limitadas\, ¡reserva la tuya hoy mismo!
URL:https://premaequilibrionatural.com/evento/reiki-junio/
CATEGORIES:Cursos
ATTACH;FMTTYPE=image/jpeg:https://premaequilibrionatural.com/wp-content/uploads/2025/05/1748762408376.jpg
END:VEVENT
END:VCALENDAR