BEGIN:VCALENDAR
VERSION:2.0
PRODID:-//Prema Equilibrio Natural - ECPv6.15.17.1//NONSGML v1.0//EN
CALSCALE:GREGORIAN
METHOD:PUBLISH
X-ORIGINAL-URL:https://premaequilibrionatural.com
X-WR-CALDESC:Eventos para Prema Equilibrio Natural
REFRESH-INTERVAL;VALUE=DURATION:PT1H
X-Robots-Tag:noindex
X-PUBLISHED-TTL:PT1H
BEGIN:VTIMEZONE
TZID:Europe/Madrid
BEGIN:DAYLIGHT
TZOFFSETFROM:+0100
TZOFFSETTO:+0200
TZNAME:CEST
DTSTART:20230326T010000
END:DAYLIGHT
BEGIN:STANDARD
TZOFFSETFROM:+0200
TZOFFSETTO:+0100
TZNAME:CET
DTSTART:20231029T010000
END:STANDARD
BEGIN:DAYLIGHT
TZOFFSETFROM:+0100
TZOFFSETTO:+0200
TZNAME:CEST
DTSTART:20240331T010000
END:DAYLIGHT
BEGIN:STANDARD
TZOFFSETFROM:+0200
TZOFFSETTO:+0100
TZNAME:CET
DTSTART:20241027T010000
END:STANDARD
BEGIN:DAYLIGHT
TZOFFSETFROM:+0100
TZOFFSETTO:+0200
TZNAME:CEST
DTSTART:20250330T010000
END:DAYLIGHT
BEGIN:STANDARD
TZOFFSETFROM:+0200
TZOFFSETTO:+0100
TZNAME:CET
DTSTART:20251026T010000
END:STANDARD
END:VTIMEZONE
BEGIN:VEVENT
DTSTART;TZID=Europe/Madrid:20241020T173000
DTEND;TZID=Europe/Madrid:20241020T200000
DTSTAMP:20260425T153832
CREATED:20240901T161400Z
LAST-MODIFIED:20240904T095019Z
UID:37627-1729445400-1729454400@premaequilibrionatural.com
SUMMARY:Taller para mejorar la ansiedad y el estrés
DESCRIPTION:Taller para mejorar la ansiedad y el estrés¿Estás sufriendo de estrés o ansiedad?Identifica si estás experimentando alguno de estos síntomas: \n				\n				\n				\n				\n							\n			\n		\n						\n				\n				\n				\n									\nCansancio extremo o debilidad constante.\nDificultad para concentrarte y mantener la atención.\nProblemas de sueño\, ya sea para conciliarlo o mantenerlo.\nPreocupaciones constantes que no te dejan en paz.\nTaquicardias o un ritmo cardíaco acelerado.\nMalestar gastrointestinal sin causa aparente.\nRespiración acelerada y sensación de ahogo.\nTe sientes agitad@ o inquieto.\nIrritabilidad y cambios de humor repentinos.\nPresión en el pecho que no desaparece.\nEpisodios de pánico o ansiedad intensa.\n\nSi te reconoces en alguno de estos síntomas\, es posible que estés enfrentando estrés o ansiedad. \nPero no solo eso\, también podrías estar experimentando: \n\nNecesidad de controlar todo a tu alrededor.\nBúsqueda obsesiva de la perfección en cada detalle.\nDeseo constante de satisfacer las expectativas ajenas.\nY muchos otros comportamientos que\, sin darte cuenta\, afectan tu bienestar.\n								\n				\n				\n				\n							\n			\n		\n						\n				\n					\n		\n					\n		\n					\n		\n					\n		\n				\n						\n					\n			\n						\n				\n							\n			\n		\n						\n				\n				\n				\n					La Organización Mundial de la Salud (OMS) ha alertado sobre el creciente impacto del estrés y la ansiedad en nuestra sociedad\, considerándolos una pandemia silenciosa que afecta profundamente la calidad de vida.				\n				\n					\n		\n					\n		\n				\n						\n					\n			\n						\n				\n							\n			\n		\n						\n				\n					\n		\n					\n		\n				\n						\n					\n			\n						\n				\n							\n			\n		\n						\n				\n				\n				\n							\n			\n		\n						\n				\n				\n						\n					\n			\n						\n				\n					Te presentamos nuestro \nTaller práctico para mejorar el estrés y la ansiedad				\n				\n				\n				\n							\n			\n		\n						\n				\n				\n				\n																														\n				\n				\n				\n							\n			\n		\n						\n				\n				\n				\n									Hemos creado un taller diseñado específicamente para proporcionarte herramientas naturales y milenarias\, comprobadas por la ciencia\, que te ayudarán a recuperar el equilibrio en tu vida. ¿Con qué técnicas trabajaremos?Reflexología Podal: Aprende a utilizar puntos clave en tus pies que alivian el estrés y la ansiedad. Te enseñaremos cómo aplicarlo diariamente para un bienestar constante. Respiraciones Conscientes: Descubre el poder de la respiración consciente para calmar la mente y el cuerpo. Practicarás técnicas respiratorias de origen oriental que transformarán tu día a día. Meditación: Incluso si nunca has meditado\, este taller te guiará paso a paso. Desmitificaremos la meditación y te mostraremos cómo puede mejorar tu vida\, con beneficios respaldados por la ciencia. ¿Por qué deberías apuntarte al taller?Cuando la vida se vuelve abrumadora\, es momento de tomar acción. Este taller te brindará herramientas efectivas que han sido utilizadas durante siglos para restaurar la paz interior y el bienestar. ¿Necesitas más información?Contáctanos ahora y recibe toda la información que necesitas sin compromiso. Estamos aquí para ayudarte a dar el primer paso hacia una vida más equilibrada. 								\n				\n				\n				\n							\n			\n		\n						\n				\n				\n				\n					Escríbenos por WhatsApp				\n				\n					\n		\n					\n		\n				\n				\n							\n			\n		\n						\n				\n				\n				\n							\n			\n		\n						\n				\n					\n		\n				\n			\n						\n				\n							\n			\n		\n						\n				\n					\n		\n					\n		\n				\n						\n					\n			\n						\n				\n							\n			\n		\n						\n				\n					\n		\n					\n		\n				\n						\n					\n			\n						\n				\n							\n			\n		\n						\n				\n				\n						\n					\n			\n						\n				\n					\n			Taller para mejorar la ansiedad y el estrés20 octubre de 2024 de 17:30 a 20h27€\nCENTRO YOGAONE TARRAGONA\n\nC/ de Fortuny\, 343001 TarragonaReserva tu plaza ahora				\n				\n					\n		\n				\n			\n						\n				\n							\n			\n		\n						\n				\n				\n				\n					¡Este es tu momento de cambio!No esperes más para transformar tu vida. Este taller es tu oportunidad de cuidar de ti mismo de manera natural y efectiva. \nEmpieza tu camino hacia el bienestar hoy mismo.  \nInscríbete en nuestro taller y comienza a vivir una vida libre de estrés y ansiedad.
URL:https://premaequilibrionatural.com/evento/taller-ansiedad-y-estres/
LOCATION:YogaOne Tarragona\, C/Fortuny\, 3\, 43001 Tarragona
CATEGORIES:Talleres
ATTACH;FMTTYPE=image/jpeg:https://premaequilibrionatural.com/wp-content/uploads/2024/09/1724569446817-1-scaled.jpg
ORGANIZER;CN="PREMA EQUILIBRIO NATURAL":MAILTO:info@premaequilibrionatural.com
END:VEVENT
END:VCALENDAR